BEGIN:VCALENDAR
VERSION:2.0
PRODID:-//Animal Dignity - ECPv6.15.20//NONSGML v1.0//EN
CALSCALE:GREGORIAN
METHOD:PUBLISH
X-WR-CALNAME:Animal Dignity
X-ORIGINAL-URL:https://animaldignity.lu
X-WR-CALDESC:Events for Animal Dignity
REFRESH-INTERVAL;VALUE=DURATION:PT1H
X-Robots-Tag:noindex
X-PUBLISHED-TTL:PT1H
BEGIN:VTIMEZONE
TZID:Europe/Paris
BEGIN:DAYLIGHT
TZOFFSETFROM:+0100
TZOFFSETTO:+0200
TZNAME:CEST
DTSTART:20170326T010000
END:DAYLIGHT
BEGIN:STANDARD
TZOFFSETFROM:+0200
TZOFFSETTO:+0100
TZNAME:CET
DTSTART:20171029T010000
END:STANDARD
BEGIN:DAYLIGHT
TZOFFSETFROM:+0100
TZOFFSETTO:+0200
TZNAME:CEST
DTSTART:20180325T010000
END:DAYLIGHT
BEGIN:STANDARD
TZOFFSETFROM:+0200
TZOFFSETTO:+0100
TZNAME:CET
DTSTART:20181028T010000
END:STANDARD
BEGIN:DAYLIGHT
TZOFFSETFROM:+0100
TZOFFSETTO:+0200
TZNAME:CEST
DTSTART:20190331T010000
END:DAYLIGHT
BEGIN:STANDARD
TZOFFSETFROM:+0200
TZOFFSETTO:+0100
TZNAME:CET
DTSTART:20191027T010000
END:STANDARD
END:VTIMEZONE
BEGIN:VEVENT
DTSTART;TZID=Europe/Paris:20180910T050000
DTEND;TZID=Europe/Paris:20180910T110000
DTSTAMP:20260425T004013
CREATED:20180913T105247Z
LAST-MODIFIED:20180913T105247Z
UID:1162-1536555600-1536577200@animaldignity.lu
SUMMARY:Luxembourg Animal Save - 2nd Vigil
DESCRIPTION:The Save Movement uses the strategy of bearing witness to animals in their final moments as they approach slaughterhouses\, live markets and auctions. We use a love-based community-organizing approach based on non violence\, love and truth as informed by Leo Tolstoy and Mahatma Gandhi. We advocate veganism and activism\, namely the idea that everyone has the duty to bear witness. We also have a zero tolerance approach to animal exploitation.\nIf you want to Attempt please bring with you following items:\n* Own Breakfast/Snacks and Drinks\n* Warnvest (yellow if possible)\n* Flowers and Candles if you want to deposit some?\n* be sure to bring and charge your phones and cameras\n* Water for the animals? \nMeeting Point in front of Slaughterhouse (Parkingslots) \nPlease read carfully our Code of Conduct and the Memorandum of Understanding alavable here:\nhttp://thesavemovement.org/start-a-save-group/mou/\nhttp://thesavemovement.org/code-of-conduct/ \nShare\n				Email a link to a friend (Opens in new window)\n				Email\n			\n				Print (Opens in new window)\n				Print\n			\n				Share on Facebook (Opens in new window)\n				Facebook\n			\n				Share on X (Opens in new window)\n				X\n			\n				Share on LinkedIn (Opens in new window)\n				LinkedIn\n			\n				Share on Reddit (Opens in new window)\n				Reddit\n			\n				Share on Pinterest (Opens in new window)\n				Pinterest\n			\n				Share on Tumblr (Opens in new window)\n				Tumblr
URL:https://animaldignity.lu/event/luxembourg-animal-save-2nd-vigil/
LOCATION:Ettelbruck\, 10 rue zone artisanale et commerciale\, Ettelbruck\, Luxembourg
END:VEVENT
BEGIN:VEVENT
DTSTART;TZID=Europe/Paris:20180910T140000
DTEND;TZID=Europe/Paris:20180910T170000
DTSTAMP:20260425T004013
CREATED:20180827T141243Z
LAST-MODIFIED:20180827T141243Z
UID:1059-1536588000-1536598800@animaldignity.lu
SUMMARY:Cube of Truth\, Luxembourg-city
DESCRIPTION:Si vous souhaitez participer à nos actions\, rejoignez ce groupe:\nhttps://www.facebook.com/groups/465869783814998/ \nLe Cube of Truth est un happening statique et pacifique comparable à une performance artistique. Ce happening fonctionne de façon structurée\, ce qui provoque la curiosité et l’intérêt du public ; nous souhaitons guider les passant-es vers le véganisme grâce à la combinaison de vidéos de pratiques standards et locales dans l’exploitation animale et de discussions avec une approche personnalisée\, basée sur la réflexion et l’accompagnement. \nLes masques\, panneaux et supports de sensibilisation sont fournis. Une tenue noire appropriée aux conditions météo est indispensable\, et merci d’apporter un ordinateur portable ou une tablette entièrement chargée si vous en avez. Si c’est le cas\, merci de télécharger ceci : \nLecteur Média :\nhttp://www.videolan.org/vlc/ \nVidéos :\nhttps://goo.gl/LkDWe5 \nShare\n				Email a link to a friend (Opens in new window)\n				Email\n			\n				Print (Opens in new window)\n				Print\n			\n				Share on Facebook (Opens in new window)\n				Facebook\n			\n				Share on X (Opens in new window)\n				X\n			\n				Share on LinkedIn (Opens in new window)\n				LinkedIn\n			\n				Share on Reddit (Opens in new window)\n				Reddit\n			\n				Share on Pinterest (Opens in new window)\n				Pinterest\n			\n				Share on Tumblr (Opens in new window)\n				Tumblr
URL:https://animaldignity.lu/event/cube-of-truth-luxembourg-city/
ATTACH;FMTTYPE=image/jpeg:https://animaldignity.lu/wp/wp-content/uploads/2018/07/36573679_1848125051876383_7865580871401603072_n.jpg
END:VEVENT
END:VCALENDAR