BEGIN:VCALENDAR
VERSION:2.0
PRODID:-//Animal Dignity - ECPv6.15.20//NONSGML v1.0//EN
CALSCALE:GREGORIAN
METHOD:PUBLISH
X-ORIGINAL-URL:https://animaldignity.lu
X-WR-CALDESC:Events for Animal Dignity
REFRESH-INTERVAL;VALUE=DURATION:PT1H
X-Robots-Tag:noindex
X-PUBLISHED-TTL:PT1H
BEGIN:VTIMEZONE
TZID:Europe/Paris
BEGIN:DAYLIGHT
TZOFFSETFROM:+0100
TZOFFSETTO:+0200
TZNAME:CEST
DTSTART:20170326T010000
END:DAYLIGHT
BEGIN:STANDARD
TZOFFSETFROM:+0200
TZOFFSETTO:+0100
TZNAME:CET
DTSTART:20171029T010000
END:STANDARD
BEGIN:DAYLIGHT
TZOFFSETFROM:+0100
TZOFFSETTO:+0200
TZNAME:CEST
DTSTART:20180325T010000
END:DAYLIGHT
BEGIN:STANDARD
TZOFFSETFROM:+0200
TZOFFSETTO:+0100
TZNAME:CET
DTSTART:20181028T010000
END:STANDARD
BEGIN:DAYLIGHT
TZOFFSETFROM:+0100
TZOFFSETTO:+0200
TZNAME:CEST
DTSTART:20190331T010000
END:DAYLIGHT
BEGIN:STANDARD
TZOFFSETFROM:+0200
TZOFFSETTO:+0100
TZNAME:CET
DTSTART:20191027T010000
END:STANDARD
END:VTIMEZONE
BEGIN:VEVENT
DTSTART;TZID=Europe/Paris:20181023T190000
DTEND;TZID=Europe/Paris:20181023T190000
DTSTAMP:20260424T233309
CREATED:20181011T102703Z
LAST-MODIFIED:20181011T102703Z
UID:1212-1540321200-1540321200@animaldignity.lu
SUMMARY:Droit des animaux : quelles perspectives d’évolution ?
DESCRIPTION:Par Émilie Chevalier\, maître de conférences en droit public à l’Université de Limoges et co-autrice du Code de l’animal. \nLa récente création du premier code de l’animal constitue une véritable avancée pour le droit des animaux\, rendant plus lisible la réglementation et mettant en lumière les incohérences des textes. Et si la prochaine étape était la reconnaissance de la personnalité juridique de l’animal ? \nShare\n				Email a link to a friend (Opens in new window)\n				Email\n			\n				Print (Opens in new window)\n				Print\n			\n				Share on Facebook (Opens in new window)\n				Facebook\n			\n				Share on X (Opens in new window)\n				X\n			\n				Share on LinkedIn (Opens in new window)\n				LinkedIn\n			\n				Share on Reddit (Opens in new window)\n				Reddit\n			\n				Share on Pinterest (Opens in new window)\n				Pinterest\n			\n				Share on Tumblr (Opens in new window)\n				Tumblr
URL:https://animaldignity.lu/event/droit-des-animaux-quelles-perspectives-devolution/
LOCATION:Metz\, Hôtel de Ville\, 1\, place d'Armes\, Metz\, 57036\, France
ATTACH;FMTTYPE=image/jpeg:https://animaldignity.lu/wp/wp-content/uploads/2018/10/22632.jpg
END:VEVENT
END:VCALENDAR