BEGIN:VCALENDAR
VERSION:2.0
PRODID:-//Animal Dignity - ECPv6.15.20//NONSGML v1.0//EN
CALSCALE:GREGORIAN
METHOD:PUBLISH
X-ORIGINAL-URL:https://animaldignity.lu
X-WR-CALDESC:Events for Animal Dignity
REFRESH-INTERVAL;VALUE=DURATION:PT1H
X-Robots-Tag:noindex
X-PUBLISHED-TTL:PT1H
BEGIN:VTIMEZONE
TZID:Europe/Paris
BEGIN:DAYLIGHT
TZOFFSETFROM:+0100
TZOFFSETTO:+0200
TZNAME:CEST
DTSTART:20170326T010000
END:DAYLIGHT
BEGIN:STANDARD
TZOFFSETFROM:+0200
TZOFFSETTO:+0100
TZNAME:CET
DTSTART:20171029T010000
END:STANDARD
BEGIN:DAYLIGHT
TZOFFSETFROM:+0100
TZOFFSETTO:+0200
TZNAME:CEST
DTSTART:20180325T010000
END:DAYLIGHT
BEGIN:STANDARD
TZOFFSETFROM:+0200
TZOFFSETTO:+0100
TZNAME:CET
DTSTART:20181028T010000
END:STANDARD
BEGIN:DAYLIGHT
TZOFFSETFROM:+0100
TZOFFSETTO:+0200
TZNAME:CEST
DTSTART:20190331T010000
END:DAYLIGHT
BEGIN:STANDARD
TZOFFSETFROM:+0200
TZOFFSETTO:+0100
TZNAME:CET
DTSTART:20191027T010000
END:STANDARD
END:VTIMEZONE
BEGIN:VEVENT
DTSTART;TZID=Europe/Paris:20181115T193000
DTEND;TZID=Europe/Paris:20181115T230000
DTSTAMP:20260424T232917
CREATED:20181029T113755Z
LAST-MODIFIED:20181029T113755Z
UID:1243-1542310200-1542322800@animaldignity.lu
SUMMARY:Piano\, vegan cheese & wine
DESCRIPTION:Pianosowend mat veganem Kéis a Wäin am Oekosoph: \nD‘Vegan Society Luxembourg an de Mouvement Ecologique lueden Iech an op e gemittlechen Pianosowend mat enger feiner Selektioun vu verschiddenen artisanalen\, biologeschen a vegane Kéiser\, an e Pättche bio a vegane Wäin fir déi\, déi wëllen. \nFir d‘Ambiance suergt den „Earthling Daniel“ um Piano mat lëtzebuerger Lidder an anere Klassiker. \nDe Kéisteller (mat puer Drauwen a Brout) kascht 18€. \nEng Reservatioun ass neideg fir de Kéisteller\, umellen kënnt Dir Iech bis den 10.11. op contact@vsl.lu\, d‘Plazen si limitéiert. \nPiano Evening with vegan cheese and wine at Oekosoph: \nThe Vegan Society Luxembourg and the „Mouvement écologique“ invite you to a relaxed Piano night with a fine selection of different organic and vegan cheeses\, served with organic vegan wine for those who want. \nOn the piano „Earthling Daniel“ playing luxembourgish and international songs. \nThe cheese plate (served with grapes and bread) is available for 18€\, a reservation is necessary until the 10th november at contact@vsl.lu.\, places are limited. \nShare\n				Email a link to a friend (Opens in new window)\n				Email\n			\n				Print (Opens in new window)\n				Print\n			\n				Share on Facebook (Opens in new window)\n				Facebook\n			\n				Share on X (Opens in new window)\n				X\n			\n				Share on LinkedIn (Opens in new window)\n				LinkedIn\n			\n				Share on Reddit (Opens in new window)\n				Reddit\n			\n				Share on Pinterest (Opens in new window)\n				Pinterest\n			\n				Share on Tumblr (Opens in new window)\n				Tumblr
URL:https://animaldignity.lu/event/piano-vegan-cheese-wine/
LOCATION:Oekosoph\, 6 rue Vauban\, Luxembourg\, 2663\, Luxembourg
END:VEVENT
END:VCALENDAR