BEGIN:VCALENDAR
VERSION:2.0
PRODID:-//Animal Dignity - ECPv6.15.20//NONSGML v1.0//EN
CALSCALE:GREGORIAN
METHOD:PUBLISH
X-ORIGINAL-URL:https://animaldignity.lu
X-WR-CALDESC:Events for Animal Dignity
REFRESH-INTERVAL;VALUE=DURATION:PT1H
X-Robots-Tag:noindex
X-PUBLISHED-TTL:PT1H
BEGIN:VTIMEZONE
TZID:Europe/Paris
BEGIN:DAYLIGHT
TZOFFSETFROM:+0100
TZOFFSETTO:+0200
TZNAME:CEST
DTSTART:20170326T010000
END:DAYLIGHT
BEGIN:STANDARD
TZOFFSETFROM:+0200
TZOFFSETTO:+0100
TZNAME:CET
DTSTART:20171029T010000
END:STANDARD
BEGIN:DAYLIGHT
TZOFFSETFROM:+0100
TZOFFSETTO:+0200
TZNAME:CEST
DTSTART:20180325T010000
END:DAYLIGHT
BEGIN:STANDARD
TZOFFSETFROM:+0200
TZOFFSETTO:+0100
TZNAME:CET
DTSTART:20181028T010000
END:STANDARD
BEGIN:DAYLIGHT
TZOFFSETFROM:+0100
TZOFFSETTO:+0200
TZNAME:CEST
DTSTART:20190331T010000
END:DAYLIGHT
BEGIN:STANDARD
TZOFFSETFROM:+0200
TZOFFSETTO:+0100
TZNAME:CET
DTSTART:20191027T010000
END:STANDARD
END:VTIMEZONE
BEGIN:VEVENT
DTSTART;TZID=Europe/Paris:20181207T180000
DTEND;TZID=Europe/Paris:20181207T233000
DTSTAMP:20260425T004034
CREATED:20181205T170902Z
LAST-MODIFIED:20181205T171004Z
UID:1335-1544205600-1544225400@animaldignity.lu
SUMMARY:Vegan Christmas Party
DESCRIPTION:Tasty healthy food\, gift ideas\, chats with like-minded – the traditional Christmas Party of the Vegan Society Luxembourg is the place to be for vegans and people striving to adopt a healthier and more compassionate lifestyle. Everyone is welcome\, no matter if vegan\, in transition\, or just curious. \nWhen? Friday 7 December 2018\, as of 6 pm \nWhere?  Centre Culturel „Beim Nëssert“ in Bergem\, 14\, rue de Schifflange\, L-3316 Bergem. \nFree entry! \nFor more information:  \nwww.vsl.lu \ncontact@vsl.lu \nhttps://www.facebook.com/events/2111783908853710/?ti=icl \nShare\n				Email a link to a friend (Opens in new window)\n				Email\n			\n				Print (Opens in new window)\n				Print\n			\n				Share on Facebook (Opens in new window)\n				Facebook\n			\n				Share on X (Opens in new window)\n				X\n			\n				Share on LinkedIn (Opens in new window)\n				LinkedIn\n			\n				Share on Reddit (Opens in new window)\n				Reddit\n			\n				Share on Pinterest (Opens in new window)\n				Pinterest\n			\n				Share on Tumblr (Opens in new window)\n				Tumblr
URL:https://animaldignity.lu/event/vegan-christmas-party/
LOCATION:Centre culturel beim Nëssert\, 14 rue de Schifflange\, Bergem\, L-3316\, Luxembourg
END:VEVENT
END:VCALENDAR