BEGIN:VCALENDAR
VERSION:2.0
PRODID:-//Animal Dignity - ECPv6.15.20//NONSGML v1.0//EN
CALSCALE:GREGORIAN
METHOD:PUBLISH
X-WR-CALNAME:Animal Dignity
X-ORIGINAL-URL:https://animaldignity.lu
X-WR-CALDESC:Events for Animal Dignity
REFRESH-INTERVAL;VALUE=DURATION:PT1H
X-Robots-Tag:noindex
X-PUBLISHED-TTL:PT1H
BEGIN:VTIMEZONE
TZID:Europe/Paris
BEGIN:DAYLIGHT
TZOFFSETFROM:+0100
TZOFFSETTO:+0200
TZNAME:CEST
DTSTART:20170326T010000
END:DAYLIGHT
BEGIN:STANDARD
TZOFFSETFROM:+0200
TZOFFSETTO:+0100
TZNAME:CET
DTSTART:20171029T010000
END:STANDARD
BEGIN:DAYLIGHT
TZOFFSETFROM:+0100
TZOFFSETTO:+0200
TZNAME:CEST
DTSTART:20180325T010000
END:DAYLIGHT
BEGIN:STANDARD
TZOFFSETFROM:+0200
TZOFFSETTO:+0100
TZNAME:CET
DTSTART:20181028T010000
END:STANDARD
BEGIN:DAYLIGHT
TZOFFSETFROM:+0100
TZOFFSETTO:+0200
TZNAME:CEST
DTSTART:20190331T010000
END:DAYLIGHT
BEGIN:STANDARD
TZOFFSETFROM:+0200
TZOFFSETTO:+0100
TZNAME:CET
DTSTART:20191027T010000
END:STANDARD
BEGIN:DAYLIGHT
TZOFFSETFROM:+0100
TZOFFSETTO:+0200
TZNAME:CEST
DTSTART:20200329T010000
END:DAYLIGHT
BEGIN:STANDARD
TZOFFSETFROM:+0200
TZOFFSETTO:+0100
TZNAME:CET
DTSTART:20201025T010000
END:STANDARD
END:VTIMEZONE
BEGIN:VEVENT
DTSTART;TZID=Europe/Paris:20181112T120000
DTEND;TZID=Europe/Paris:20181112T200000
DTSTAMP:20260425T030940
CREATED:20181029T113233Z
LAST-MODIFIED:20181029T113233Z
UID:1235-1542024000-1542052800@animaldignity.lu
SUMMARY:Lëtzebuerger Klimadag 2018
DESCRIPTION:Le Lëtzebuerger Klimadag 2018 réunit les communes du Klima-Bündnis\, les ONG de VotumKlima et le grand public pour une journée de stands d’info\, conférences\, projections de film\, discussions et actions autour du changement climatique. Il y en a vraiment pour tout le monde\, venez nombreux! Entrée et participation gratuites. \n\n\n\n12:15 PM – 1:00 PM\n\nConférence Dr. Quentin Lejeune/Climate Analytics sur le rapport GIEC 1\,5°\n\n\n\n\n\n \n\n \n\n1:00 PM – 2:00 PM\n\nDiscussion sur les conséquences du récent rapport GIEC sur la politique climatique du Luxembourg\n\n\n\n\n\n \n\n \n\n2:30 PM – 3:30 PM\n\nFilm “Count Down am Xingu V” über den Staudamm Belo Monte in Brasilien\n\n\n\n\n\n \n\n \n\n3:30 PM – 5:00 PM\n\nVortrag “Global education for change”:Bedeutung entwicklungspolitischer Bildungsarbeit zur Umsetzung lokaler Klimaziele\n\n\n\n\n\n \n\n \n\n\n5:30 PM\n\n\nPlenarsitzung des Klima-Bündnis Lëtzebuerg\, mit Vorstellung des People’s Climate Case in Anwesenheit einiger Kläger\n\n\n\n\n\n \n\n \n\n6:00 PM – 8:00 PM\n\nAfter Work Drink & Social Media Aktion “Deine Message an die zukünftige Regierung Luxemburgs”\n\n\n\n\nShare\n				Email a link to a friend (Opens in new window)\n				Email\n			\n				Print (Opens in new window)\n				Print\n			\n				Share on Facebook (Opens in new window)\n				Facebook\n			\n				Share on X (Opens in new window)\n				X\n			\n				Share on LinkedIn (Opens in new window)\n				LinkedIn\n			\n				Share on Reddit (Opens in new window)\n				Reddit\n			\n				Share on Pinterest (Opens in new window)\n				Pinterest\n			\n				Share on Tumblr (Opens in new window)\n				Tumblr
URL:https://animaldignity.lu/event/letzebuerger-klimadag-2018/
LOCATION:Rotonde 1\, 1 rue de la rotonde\, Luxembourg\, 2448\, Luxembourg
END:VEVENT
BEGIN:VEVENT
DTSTART;TZID=Europe/Paris:20181115T193000
DTEND;TZID=Europe/Paris:20181115T230000
DTSTAMP:20260425T030940
CREATED:20181029T113755Z
LAST-MODIFIED:20181029T113755Z
UID:1243-1542310200-1542322800@animaldignity.lu
SUMMARY:Piano\, vegan cheese & wine
DESCRIPTION:Pianosowend mat veganem Kéis a Wäin am Oekosoph: \nD‘Vegan Society Luxembourg an de Mouvement Ecologique lueden Iech an op e gemittlechen Pianosowend mat enger feiner Selektioun vu verschiddenen artisanalen\, biologeschen a vegane Kéiser\, an e Pättche bio a vegane Wäin fir déi\, déi wëllen. \nFir d‘Ambiance suergt den „Earthling Daniel“ um Piano mat lëtzebuerger Lidder an anere Klassiker. \nDe Kéisteller (mat puer Drauwen a Brout) kascht 18€. \nEng Reservatioun ass neideg fir de Kéisteller\, umellen kënnt Dir Iech bis den 10.11. op contact@vsl.lu\, d‘Plazen si limitéiert. \nPiano Evening with vegan cheese and wine at Oekosoph: \nThe Vegan Society Luxembourg and the „Mouvement écologique“ invite you to a relaxed Piano night with a fine selection of different organic and vegan cheeses\, served with organic vegan wine for those who want. \nOn the piano „Earthling Daniel“ playing luxembourgish and international songs. \nThe cheese plate (served with grapes and bread) is available for 18€\, a reservation is necessary until the 10th november at contact@vsl.lu.\, places are limited. \nShare\n				Email a link to a friend (Opens in new window)\n				Email\n			\n				Print (Opens in new window)\n				Print\n			\n				Share on Facebook (Opens in new window)\n				Facebook\n			\n				Share on X (Opens in new window)\n				X\n			\n				Share on LinkedIn (Opens in new window)\n				LinkedIn\n			\n				Share on Reddit (Opens in new window)\n				Reddit\n			\n				Share on Pinterest (Opens in new window)\n				Pinterest\n			\n				Share on Tumblr (Opens in new window)\n				Tumblr
URL:https://animaldignity.lu/event/piano-vegan-cheese-wine/
LOCATION:Oekosoph\, 6 rue Vauban\, Luxembourg\, 2663\, Luxembourg
END:VEVENT
BEGIN:VEVENT
DTSTART;TZID=Europe/Paris:20181202T120000
DTEND;TZID=Europe/Paris:20181202T150000
DTSTAMP:20260425T030940
CREATED:20181029T113510Z
LAST-MODIFIED:20181029T113510Z
UID:1240-1543752000-1543762800@animaldignity.lu
SUMMARY:Sing for the Climate @Neumünster Abbey
DESCRIPTION:Greenpeace Lëtzebuerg\, a Partenariat mat der Abtei Neumünster an dem Institut européen de chant chorale (INECC)\, lancéiert eng Erausfuerderung fir ganz Lëtzebuerg! Mir invitéieren Iech dofir alleguer un dësem Dag zesummen am Haff vun der Abtei Neimënster ze sangen. \nWeist och Dir äert Engagement fir de Klimaschutz ! Zesumme wäerte mir “Do It Now” op der Melodie vu “Bella Ciao” sangen. Dësen Event wäert opgeholl ginn\, op de sozialen Netzwierker verëffentlecht ginn a wäert soumat Deel vun der weltwäiter Beweegung “Sing for the Climate” sinn\, un där schonns méi wéi 400.000 Bierger a Biergerinnen aus 49 Länner deel geholl hunn. \nEt ass un der d’Zäit datt op politeschem Niveau eppes geschitt\, an datt endlech seriö Mesuren geholl ginn\, fir d’Äerderwiermung ze limitéieren! Dës Biergerbeweegung wäert den 2. Dezember stattfannen – een Dag virum Start vun der COP24 (Klimawandel-Konferenz déi den 3. Dezember zu Katowice ufänkt). \nProgramm\n12h00 – Accueil\n14h00 – Prouf\n14h30 – Final Opnam vum Lidd \nZousätzlech Informatiounen :\nEt sinn e vegane Food Truck an Gedrénks op der Platz virgesinn \nShare\n				Email a link to a friend (Opens in new window)\n				Email\n			\n				Print (Opens in new window)\n				Print\n			\n				Share on Facebook (Opens in new window)\n				Facebook\n			\n				Share on X (Opens in new window)\n				X\n			\n				Share on LinkedIn (Opens in new window)\n				LinkedIn\n			\n				Share on Reddit (Opens in new window)\n				Reddit\n			\n				Share on Pinterest (Opens in new window)\n				Pinterest\n			\n				Share on Tumblr (Opens in new window)\n				Tumblr
URL:https://animaldignity.lu/event/sing-for-the-climate-neumunster-abbey/
ATTACH;FMTTYPE=image/jpeg:https://animaldignity.lu/wp/wp-content/uploads/2018/10/sing.jpg
END:VEVENT
BEGIN:VEVENT
DTSTART;TZID=Europe/Paris:20181207T180000
DTEND;TZID=Europe/Paris:20181207T233000
DTSTAMP:20260425T030940
CREATED:20181205T170902Z
LAST-MODIFIED:20181205T171004Z
UID:1335-1544205600-1544225400@animaldignity.lu
SUMMARY:Vegan Christmas Party
DESCRIPTION:Tasty healthy food\, gift ideas\, chats with like-minded – the traditional Christmas Party of the Vegan Society Luxembourg is the place to be for vegans and people striving to adopt a healthier and more compassionate lifestyle. Everyone is welcome\, no matter if vegan\, in transition\, or just curious. \nWhen? Friday 7 December 2018\, as of 6 pm \nWhere?  Centre Culturel „Beim Nëssert“ in Bergem\, 14\, rue de Schifflange\, L-3316 Bergem. \nFree entry! \nFor more information:  \nwww.vsl.lu \ncontact@vsl.lu \nhttps://www.facebook.com/events/2111783908853710/?ti=icl \nShare\n				Email a link to a friend (Opens in new window)\n				Email\n			\n				Print (Opens in new window)\n				Print\n			\n				Share on Facebook (Opens in new window)\n				Facebook\n			\n				Share on X (Opens in new window)\n				X\n			\n				Share on LinkedIn (Opens in new window)\n				LinkedIn\n			\n				Share on Reddit (Opens in new window)\n				Reddit\n			\n				Share on Pinterest (Opens in new window)\n				Pinterest\n			\n				Share on Tumblr (Opens in new window)\n				Tumblr
URL:https://animaldignity.lu/event/vegan-christmas-party/
LOCATION:Centre culturel beim Nëssert\, 14 rue de Schifflange\, Bergem\, L-3316\, Luxembourg
END:VEVENT
BEGIN:VEVENT
DTSTART;TZID=Europe/Paris:20190315T123000
DTEND;TZID=Europe/Paris:20190315T140000
DTSTAMP:20260425T030940
CREATED:20190314T103407Z
LAST-MODIFIED:20190314T103407Z
UID:1556-1552653000-1552658400@animaldignity.lu
SUMMARY:Students Global Strike For Climate
DESCRIPTION:« We have to understand what the older generation has dealt to us\, what mess they have created that we have to clean up and live with. We have to make our voices heard ».\nThese are the words of Greta Thunberg\, a 16-year-old girl who\, since August 2018\, is on strike and refuses to go to school to fight for her future. She demands social and climate justice. Why should we study\, if no one is saving our future? We are already seeing the consequences of climate change every day and that is why we must take action! \nGreta invites students from all over the world to go on an international strike on March 15 to fight for our future and show that we too have a voice! Luxembourg is a small country\, but together we can give it a voice that will not be forgotten by those in power! \nLike the United States\, Belgium\, Germany\, Australia and many other countries\, we want to mobilize! Together\, by uniting\, we can make a big change! We\, high school students\, students\, young voiceless people\, must get together for our future! We must take the adults by the hand\, guide them and be heard\, because it is our future that is at stake. \nBrussels gathered 15\,000 and 40\,000 students on strike against political inaction in the face of global warming. And other cities in other countries like Berlin and Geneva have followed! Now it’s our turn to mobilize! \nThe strike will start on March 15th 2019 at 10am and all schools will meet at the Glacis in Luxembourg-City at 12:30pm. \nShare\n				Email a link to a friend (Opens in new window)\n				Email\n			\n				Print (Opens in new window)\n				Print\n			\n				Share on Facebook (Opens in new window)\n				Facebook\n			\n				Share on X (Opens in new window)\n				X\n			\n				Share on LinkedIn (Opens in new window)\n				LinkedIn\n			\n				Share on Reddit (Opens in new window)\n				Reddit\n			\n				Share on Pinterest (Opens in new window)\n				Pinterest\n			\n				Share on Tumblr (Opens in new window)\n				Tumblr
URL:https://animaldignity.lu/event/students-global-strike-for-climate/
LOCATION:Luxembourg Glacis
ATTACH;FMTTYPE=image/jpeg:https://animaldignity.lu/wp/wp-content/uploads/2019/02/50715970_752436428460951_571336074635247616_n.jpg
END:VEVENT
BEGIN:VEVENT
DTSTART;TZID=Europe/Paris:20190316T100000
DTEND;TZID=Europe/Paris:20190316T180000
DTSTAMP:20260425T030940
CREATED:20190314T103632Z
LAST-MODIFIED:20190314T103632Z
UID:1559-1552730400-1552759200@animaldignity.lu
SUMMARY:Triple B - Bikes\, Burgers and Beyond
DESCRIPTION:The world-famous vegan BEYOND BURGER! arrives @ Venga in Luxembourg! \nShare\n				Email a link to a friend (Opens in new window)\n				Email\n			\n				Print (Opens in new window)\n				Print\n			\n				Share on Facebook (Opens in new window)\n				Facebook\n			\n				Share on X (Opens in new window)\n				X\n			\n				Share on LinkedIn (Opens in new window)\n				LinkedIn\n			\n				Share on Reddit (Opens in new window)\n				Reddit\n			\n				Share on Pinterest (Opens in new window)\n				Pinterest\n			\n				Share on Tumblr (Opens in new window)\n				Tumblr
URL:https://animaldignity.lu/event/triple-b-bikes-burgers-and-beyond/
LOCATION:Venga\, 59\, Grand Rue\, Roeser\, 3394\, Luxembourg
ATTACH;FMTTYPE=image/jpeg:https://animaldignity.lu/wp/wp-content/uploads/2019/03/89326a92-983c-4017-8098-d88969e6a6af.jpg
END:VEVENT
BEGIN:VEVENT
DTSTART;TZID=Europe/Paris:20190319T193000
DTEND;TZID=Europe/Paris:20190319T220000
DTSTAMP:20260425T030940
CREATED:20190314T104023Z
LAST-MODIFIED:20190314T104038Z
UID:1562-1553023800-1553032800@animaldignity.lu
SUMMARY:Animals on Screen – Über den Einsatz von Tieren bei Filmproduktionen
DESCRIPTION:Am Dienstag den 19. März um 19h30 im CNA \nVortrag von Yves Steichen (CNA) in Zusammenarbeit mit Animal Dignity \nDauer: 90 Minuten\nSprache: Luxemburgisch\nEintritt frei \n„No animals were harmed“ – das Tierschutzsiegel der American Humane Association (AHA) findet sich im Abspann zahlreicher US-Filmproduktionen. Die AHA\, eine 1877 gegründete wohltätige Organisation zum Schutz von Kindern und Tieren\, überwacht seit den vierziger Jahren die Dreharbeiten von Holly-woodfilmen und zeichnet mit diesem Gütesiegel Filmproduktionen aus\, die besonderen Wert auf Tier-rechte bzw. -schutz gelegt haben. Unumstritten ist die Auszeichnung jedoch nicht\, denn auch im Zeitalter digitaler Effekte kommen Tiere bei Dreharbeiten zu Schaden. Die Konferenz beleuchtet aus filmge-schichtlicher Perspektive das ambivalente Verhältnis zwischen Mensch und Tier bei der Entstehung von Filmproduktionen und illustriert anhand zahlreicher Ausschnitte aus europäischen und amerikanischen Filmen\, auf welche Weise Tiere bei Dreharbeiten eingesetzt wurden. \nShare\n				Email a link to a friend (Opens in new window)\n				Email\n			\n				Print (Opens in new window)\n				Print\n			\n				Share on Facebook (Opens in new window)\n				Facebook\n			\n				Share on X (Opens in new window)\n				X\n			\n				Share on LinkedIn (Opens in new window)\n				LinkedIn\n			\n				Share on Reddit (Opens in new window)\n				Reddit\n			\n				Share on Pinterest (Opens in new window)\n				Pinterest\n			\n				Share on Tumblr (Opens in new window)\n				Tumblr
URL:https://animaldignity.lu/event/animals-on-screen-uber-den-einsatz-von-tieren-bei-filmproduktionen/
LOCATION:CNA\, 1b rue du Centenaire\, Dudelange\, L-3475\, Luxembourg
ATTACH;FMTTYPE=image/jpeg:https://animaldignity.lu/wp/wp-content/uploads/2019/03/53246848_2586194001396173_2542661626104905728_n.jpg
END:VEVENT
BEGIN:VEVENT
DTSTART;VALUE=DATE:20190523
DTEND;VALUE=DATE:20190524
DTSTAMP:20260425T030940
CREATED:20190806T111444Z
LAST-MODIFIED:20190806T111444Z
UID:1629-1558569600-1558655999@animaldignity.lu
SUMMARY:Assemblée générale Vegan Society Luxembourg
DESCRIPTION:Share\n				Email a link to a friend (Opens in new window)\n				Email\n			\n				Print (Opens in new window)\n				Print\n			\n				Share on Facebook (Opens in new window)\n				Facebook\n			\n				Share on X (Opens in new window)\n				X\n			\n				Share on LinkedIn (Opens in new window)\n				LinkedIn\n			\n				Share on Reddit (Opens in new window)\n				Reddit\n			\n				Share on Pinterest (Opens in new window)\n				Pinterest\n			\n				Share on Tumblr (Opens in new window)\n				Tumblr
URL:https://animaldignity.lu/event/assemblee-generale-vegan-society-luxembourg/
END:VEVENT
BEGIN:VEVENT
DTSTART;VALUE=DATE:20190529
DTEND;VALUE=DATE:20190530
DTSTAMP:20260425T030940
CREATED:20190806T110902Z
LAST-MODIFIED:20190806T110902Z
UID:1621-1559088000-1559174399@animaldignity.lu
SUMMARY:Vegan Chalk night
DESCRIPTION:Share\n				Email a link to a friend (Opens in new window)\n				Email\n			\n				Print (Opens in new window)\n				Print\n			\n				Share on Facebook (Opens in new window)\n				Facebook\n			\n				Share on X (Opens in new window)\n				X\n			\n				Share on LinkedIn (Opens in new window)\n				LinkedIn\n			\n				Share on Reddit (Opens in new window)\n				Reddit\n			\n				Share on Pinterest (Opens in new window)\n				Pinterest\n			\n				Share on Tumblr (Opens in new window)\n				Tumblr
URL:https://animaldignity.lu/event/vegan-chalk-night/
END:VEVENT
BEGIN:VEVENT
DTSTART;VALUE=DATE:20190629
DTEND;VALUE=DATE:20190630
DTSTAMP:20260425T030940
CREATED:20190806T111650Z
LAST-MODIFIED:20190806T111650Z
UID:1634-1561766400-1561852799@animaldignity.lu
SUMMARY:Lemonade in the city
DESCRIPTION:Share\n				Email a link to a friend (Opens in new window)\n				Email\n			\n				Print (Opens in new window)\n				Print\n			\n				Share on Facebook (Opens in new window)\n				Facebook\n			\n				Share on X (Opens in new window)\n				X\n			\n				Share on LinkedIn (Opens in new window)\n				LinkedIn\n			\n				Share on Reddit (Opens in new window)\n				Reddit\n			\n				Share on Pinterest (Opens in new window)\n				Pinterest\n			\n				Share on Tumblr (Opens in new window)\n				Tumblr
URL:https://animaldignity.lu/event/lemonade-in-the-city/
LOCATION:Luxembourg-city
END:VEVENT
BEGIN:VEVENT
DTSTART;VALUE=DATE:20190703
DTEND;VALUE=DATE:20190704
DTSTAMP:20260425T030940
CREATED:20190806T111541Z
LAST-MODIFIED:20190806T111541Z
UID:1631-1562112000-1562198399@animaldignity.lu
SUMMARY:Aktioun Aartestierwen um Campus Geesseknäppchen
DESCRIPTION:Share\n				Email a link to a friend (Opens in new window)\n				Email\n			\n				Print (Opens in new window)\n				Print\n			\n				Share on Facebook (Opens in new window)\n				Facebook\n			\n				Share on X (Opens in new window)\n				X\n			\n				Share on LinkedIn (Opens in new window)\n				LinkedIn\n			\n				Share on Reddit (Opens in new window)\n				Reddit\n			\n				Share on Pinterest (Opens in new window)\n				Pinterest\n			\n				Share on Tumblr (Opens in new window)\n				Tumblr
URL:https://animaldignity.lu/event/aktioun-aartestierwen-um-campus-geesseknappchen/
END:VEVENT
BEGIN:VEVENT
DTSTART;VALUE=DATE:20190707
DTEND;VALUE=DATE:20190708
DTSTAMP:20260425T030940
CREATED:20190806T111046Z
LAST-MODIFIED:20190806T111046Z
UID:1623-1562457600-1562543999@animaldignity.lu
SUMMARY:Outdoor yoga and vegan brunch
DESCRIPTION:Share\n				Email a link to a friend (Opens in new window)\n				Email\n			\n				Print (Opens in new window)\n				Print\n			\n				Share on Facebook (Opens in new window)\n				Facebook\n			\n				Share on X (Opens in new window)\n				X\n			\n				Share on LinkedIn (Opens in new window)\n				LinkedIn\n			\n				Share on Reddit (Opens in new window)\n				Reddit\n			\n				Share on Pinterest (Opens in new window)\n				Pinterest\n			\n				Share on Tumblr (Opens in new window)\n				Tumblr
URL:https://animaldignity.lu/event/outdoor-yoga-and-vegan-brunch/
END:VEVENT
BEGIN:VEVENT
DTSTART;TZID=Europe/Paris:20190708T180000
DTEND;TZID=Europe/Paris:20190708T223000
DTSTAMP:20260425T030940
CREATED:20190806T111946Z
LAST-MODIFIED:20190806T111946Z
UID:1636-1562608800-1562625000@animaldignity.lu
SUMMARY:Animal Dignity's Movie&Food\, Ciné Prabbeli\, Wiltz
DESCRIPTION:Share\n				Email a link to a friend (Opens in new window)\n				Email\n			\n				Print (Opens in new window)\n				Print\n			\n				Share on Facebook (Opens in new window)\n				Facebook\n			\n				Share on X (Opens in new window)\n				X\n			\n				Share on LinkedIn (Opens in new window)\n				LinkedIn\n			\n				Share on Reddit (Opens in new window)\n				Reddit\n			\n				Share on Pinterest (Opens in new window)\n				Pinterest\n			\n				Share on Tumblr (Opens in new window)\n				Tumblr
URL:https://animaldignity.lu/event/animal-dignitys-moviefood-cine-prabbeli-wiltz/
LOCATION:Wiltz Ciné Prabbeli
END:VEVENT
BEGIN:VEVENT
DTSTART;VALUE=DATE:20190811
DTEND;VALUE=DATE:20190812
DTSTAMP:20260425T030940
CREATED:20190806T111153Z
LAST-MODIFIED:20190806T111153Z
UID:1625-1565481600-1565567999@animaldignity.lu
SUMMARY:Outdoor yoga and vegan brunch
DESCRIPTION:Share\n				Email a link to a friend (Opens in new window)\n				Email\n			\n				Print (Opens in new window)\n				Print\n			\n				Share on Facebook (Opens in new window)\n				Facebook\n			\n				Share on X (Opens in new window)\n				X\n			\n				Share on LinkedIn (Opens in new window)\n				LinkedIn\n			\n				Share on Reddit (Opens in new window)\n				Reddit\n			\n				Share on Pinterest (Opens in new window)\n				Pinterest\n			\n				Share on Tumblr (Opens in new window)\n				Tumblr
URL:https://animaldignity.lu/event/outdoor-yoga-and-vegan-brunch-2/
END:VEVENT
BEGIN:VEVENT
DTSTART;TZID=Europe/Paris:20190817T120000
DTEND;TZID=Europe/Paris:20190817T170000
DTSTAMP:20260425T030940
CREATED:20190806T110719Z
LAST-MODIFIED:20190806T110719Z
UID:1619-1566043200-1566061200@animaldignity.lu
SUMMARY:Luxembourg Animal Rights March 2019
DESCRIPTION:Share\n				Email a link to a friend (Opens in new window)\n				Email\n			\n				Print (Opens in new window)\n				Print\n			\n				Share on Facebook (Opens in new window)\n				Facebook\n			\n				Share on X (Opens in new window)\n				X\n			\n				Share on LinkedIn (Opens in new window)\n				LinkedIn\n			\n				Share on Reddit (Opens in new window)\n				Reddit\n			\n				Share on Pinterest (Opens in new window)\n				Pinterest\n			\n				Share on Tumblr (Opens in new window)\n				Tumblr
URL:https://animaldignity.lu/event/luxembourg-animal-rights-march-2019/
LOCATION:Luxembourg-city
ATTACH;FMTTYPE=image/jpeg:https://animaldignity.lu/wp/wp-content/uploads/2019/08/Animal-Rights-March-Luxembourg-2019.jpg
END:VEVENT
BEGIN:VEVENT
DTSTART;VALUE=DATE:20190818
DTEND;VALUE=DATE:20190819
DTSTAMP:20260425T030940
CREATED:20190806T111245Z
LAST-MODIFIED:20190806T111245Z
UID:1627-1566086400-1566172799@animaldignity.lu
SUMMARY:Happy Hippie Happening
DESCRIPTION:Share\n				Email a link to a friend (Opens in new window)\n				Email\n			\n				Print (Opens in new window)\n				Print\n			\n				Share on Facebook (Opens in new window)\n				Facebook\n			\n				Share on X (Opens in new window)\n				X\n			\n				Share on LinkedIn (Opens in new window)\n				LinkedIn\n			\n				Share on Reddit (Opens in new window)\n				Reddit\n			\n				Share on Pinterest (Opens in new window)\n				Pinterest\n			\n				Share on Tumblr (Opens in new window)\n				Tumblr
URL:https://animaldignity.lu/event/happy-hippie-happening/
END:VEVENT
BEGIN:VEVENT
DTSTART;TZID=Europe/Paris:20190905T080000
DTEND;TZID=Europe/Paris:20190908T170000
DTSTAMP:20260425T030940
CREATED:20190806T112124Z
LAST-MODIFIED:20190806T112124Z
UID:1639-1567670400-1567962000@animaldignity.lu
SUMMARY:IARC Luxembourg
DESCRIPTION:Share\n				Email a link to a friend (Opens in new window)\n				Email\n			\n				Print (Opens in new window)\n				Print\n			\n				Share on Facebook (Opens in new window)\n				Facebook\n			\n				Share on X (Opens in new window)\n				X\n			\n				Share on LinkedIn (Opens in new window)\n				LinkedIn\n			\n				Share on Reddit (Opens in new window)\n				Reddit\n			\n				Share on Pinterest (Opens in new window)\n				Pinterest\n			\n				Share on Tumblr (Opens in new window)\n				Tumblr
URL:https://animaldignity.lu/event/iarc-luxembourg/
LOCATION:Kulturfabrik
END:VEVENT
END:VCALENDAR