BEGIN:VCALENDAR
VERSION:2.0
PRODID:-//Animal Dignity - ECPv6.15.20//NONSGML v1.0//EN
CALSCALE:GREGORIAN
METHOD:PUBLISH
X-WR-CALNAME:Animal Dignity
X-ORIGINAL-URL:https://animaldignity.lu
X-WR-CALDESC:Events for Animal Dignity
REFRESH-INTERVAL;VALUE=DURATION:PT1H
X-Robots-Tag:noindex
X-PUBLISHED-TTL:PT1H
BEGIN:VTIMEZONE
TZID:Europe/Paris
BEGIN:DAYLIGHT
TZOFFSETFROM:+0100
TZOFFSETTO:+0200
TZNAME:CEST
DTSTART:20170326T010000
END:DAYLIGHT
BEGIN:STANDARD
TZOFFSETFROM:+0200
TZOFFSETTO:+0100
TZNAME:CET
DTSTART:20171029T010000
END:STANDARD
BEGIN:DAYLIGHT
TZOFFSETFROM:+0100
TZOFFSETTO:+0200
TZNAME:CEST
DTSTART:20180325T010000
END:DAYLIGHT
BEGIN:STANDARD
TZOFFSETFROM:+0200
TZOFFSETTO:+0100
TZNAME:CET
DTSTART:20181028T010000
END:STANDARD
BEGIN:DAYLIGHT
TZOFFSETFROM:+0100
TZOFFSETTO:+0200
TZNAME:CEST
DTSTART:20190331T010000
END:DAYLIGHT
BEGIN:STANDARD
TZOFFSETFROM:+0200
TZOFFSETTO:+0100
TZNAME:CET
DTSTART:20191027T010000
END:STANDARD
END:VTIMEZONE
BEGIN:VEVENT
DTSTART;TZID=Europe/Paris:20180721T010000
DTEND;TZID=Europe/Paris:20180721T130000
DTSTAMP:20260425T155939
CREATED:20180717T164229Z
LAST-MODIFIED:20180717T164229Z
UID:945-1532134800-1532178000@animaldignity.lu
SUMMARY:12-Hour-Vigil
DESCRIPTION:The 12 hour vigil includes a ceremony for the victims with a moment of silence. \n  \nShare\n				Email a link to a friend (Opens in new window)\n				Email\n			\n				Print (Opens in new window)\n				Print\n			\n				Share on Facebook (Opens in new window)\n				Facebook\n			\n				Share on X (Opens in new window)\n				X\n			\n				Share on LinkedIn (Opens in new window)\n				LinkedIn\n			\n				Share on Reddit (Opens in new window)\n				Reddit\n			\n				Share on Pinterest (Opens in new window)\n				Pinterest\n			\n				Share on Tumblr (Opens in new window)\n				Tumblr
URL:https://animaldignity.lu/event/12-hour-vigil/
LOCATION:Untitled\, Gutenbergstr. 12\, Wittlich\, 54516\, Germany
ATTACH;FMTTYPE=image/jpeg:https://animaldignity.lu/wp/wp-content/uploads/2018/07/WPS_Logo-768x768.jpg
END:VEVENT
END:VCALENDAR