BEGIN:VCALENDAR
VERSION:2.0
PRODID:-//Animal Dignity - ECPv6.15.20//NONSGML v1.0//EN
CALSCALE:GREGORIAN
METHOD:PUBLISH
X-ORIGINAL-URL:https://animaldignity.lu
X-WR-CALDESC:Events for Animal Dignity
REFRESH-INTERVAL;VALUE=DURATION:PT1H
X-Robots-Tag:noindex
X-PUBLISHED-TTL:PT1H
BEGIN:VTIMEZONE
TZID:Europe/Paris
BEGIN:DAYLIGHT
TZOFFSETFROM:+0100
TZOFFSETTO:+0200
TZNAME:CEST
DTSTART:20170326T010000
END:DAYLIGHT
BEGIN:STANDARD
TZOFFSETFROM:+0200
TZOFFSETTO:+0100
TZNAME:CET
DTSTART:20171029T010000
END:STANDARD
BEGIN:DAYLIGHT
TZOFFSETFROM:+0100
TZOFFSETTO:+0200
TZNAME:CEST
DTSTART:20180325T010000
END:DAYLIGHT
BEGIN:STANDARD
TZOFFSETFROM:+0200
TZOFFSETTO:+0100
TZNAME:CET
DTSTART:20181028T010000
END:STANDARD
BEGIN:DAYLIGHT
TZOFFSETFROM:+0100
TZOFFSETTO:+0200
TZNAME:CEST
DTSTART:20190331T010000
END:DAYLIGHT
BEGIN:STANDARD
TZOFFSETFROM:+0200
TZOFFSETTO:+0100
TZNAME:CET
DTSTART:20191027T010000
END:STANDARD
END:VTIMEZONE
BEGIN:VEVENT
DTSTART;TZID=Europe/Paris:20181006T100000
DTEND;TZID=Europe/Paris:20181006T200000
DTSTAMP:20260424T233203
CREATED:20180913T105850Z
LAST-MODIFIED:20180913T105850Z
UID:1170-1538820000-1538856000@animaldignity.lu
SUMMARY:Eise Planéit an mir - Wat Ënnerhuelen?
DESCRIPTION:Einen ganzen Tag lang könnt ihr euch hier an verschiedenen Ständen informieren\, durch welche Produkte welche Tiere an den Rande des Aussterbens gebracht werden\, oder lebenswichtige Wälder abgeholzt werden. Am frühen Abend werden einige Konferenzen das Event abrunden. \nUnsere Stände öffnen morgens ab 10 Uhr und die sportlichsten von euch können auch schon morgens früh am Red Rock Challenge teilnehmen\, unsere Partner unseres Events: https://rr-challenge.lu/2018/en/. \nEs werden Informationsstände mit verschiedene Aktivitäten vor Ort sein: Unter anderem OrangUtanHelp Lëtzebuerg\, Veginfo\, Amiavy\, Sea Sheperd und OUNI. Für Essen und Trinken ist gesorgt. \nDie Konferenzen werden nachmittags ab 16h starten: \n1) 16h00: « Palmueleg – Gesondheetlech Folgen an lokal Alternativen »\, präsentiert von Orang Utan Help Lëtzebuerg \n2) 16h45: « Eis Ernährung – Afloss\, Problemer an Léisungen. »\, präsentiert von Veginfo \n3) 17h30: « Ouni gesond Mierer\, kee Liewen – d’Vermüllung vun eisen Ozeaner »\, präsentiert von Sea Sheperd \n4) 18h00: « Wéi reduzéieren ech mai Plastikverbrauch am Alldaag? »\, präsentiert von OUNI \n5) 19h00: « D’Realitéit vum Natuerschutz an Indonesien – Méiglechkeeten fir Déieren aktiv virum Ausstierwen ze retten. »\, präsentiert von unserem Ehrengast Dr.Ir. Willie Smits\, aus der Masarang Fondation. \nAnschliessend gibt es die Möglichkeit bei einem Gläschen mit unseren Konferenzteilnehmern noch verschiedene Fragen zu stellen\, Informationen auszutauschen und sich persönliche Tips zu holen. \nArrêt de bus le plus proche: Belval Lycée\nContacts:\nClaude Schiltz\norangutanlux@gmail.com / Tel : +352 621 668 349 \nJudith Fritsch\nj.fritsch@yahoo.de \nLaurent Devalet\ndevalo88@hotmail.com \nLa journée ‘Eise Planéit an mir – Wat Ënnerhuelen?’ vous est proposée dans le cadre des Semaines de l’Education au Développement Durable. Pour découvrir le programme 2018 au complet\, rendez-vous sur www.connectinglives.cercle.lu \nShare\n				Email a link to a friend (Opens in new window)\n				Email\n			\n				Print (Opens in new window)\n				Print\n			\n				Share on Facebook (Opens in new window)\n				Facebook\n			\n				Share on X (Opens in new window)\n				X\n			\n				Share on LinkedIn (Opens in new window)\n				LinkedIn\n			\n				Share on Reddit (Opens in new window)\n				Reddit\n			\n				Share on Pinterest (Opens in new window)\n				Pinterest\n			\n				Share on Tumblr (Opens in new window)\n				Tumblr
URL:https://animaldignity.lu/event/eise-planeit-an-mir-wat-ennerhuelen/
LOCATION:Lycée Bel-Val\, 100\, avenue du Blues\, Belvaux\, 4368\, Luxembourg
END:VEVENT
BEGIN:VEVENT
DTSTART;TZID=Europe/Paris:20181013T140000
DTEND;TZID=Europe/Paris:20181013T170000
DTSTAMP:20260424T233203
CREATED:20181011T103903Z
LAST-MODIFIED:20181011T104241Z
UID:1215-1539439200-1539450000@animaldignity.lu
SUMMARY:Rise for climate/Debout pour le climat Luxembourg.
DESCRIPTION:Antonio Gutterez\, the current UN Secretary General\, has made it clear that time is ticking and that there are only two years left to take drastic measures to curb climate change.\nIn the wake of what has happened in Paris\, Geneva\, Brussels and many other cities all around Europe\, let’s show that we\, the citizens of Luxemburg\, are ready to come to grips with climate change!\nYou’re invited to join us and come up with your proposals and ideas so that we can talk about strategies to be implemented to gather people around an event which would be in keeping with what is at stake here!\nSupportive groups are welcome but banners and other posters or signs will have to remain at the back. This march will aim at gathering committed citizens around a cause which is worth fighting for! \nShare\n				Email a link to a friend (Opens in new window)\n				Email\n			\n				Print (Opens in new window)\n				Print\n			\n				Share on Facebook (Opens in new window)\n				Facebook\n			\n				Share on X (Opens in new window)\n				X\n			\n				Share on LinkedIn (Opens in new window)\n				LinkedIn\n			\n				Share on Reddit (Opens in new window)\n				Reddit\n			\n				Share on Pinterest (Opens in new window)\n				Pinterest\n			\n				Share on Tumblr (Opens in new window)\n				Tumblr
URL:https://animaldignity.lu/event/rise-for-climate-debout-pour-le-climat-luxembourg/
LOCATION:Luxembourg Place Clairefontaine\, Place Clairefontaine\, Luxembourg\, L-1341\, Luxembourg
ATTACH;FMTTYPE=image/jpeg:https://animaldignity.lu/wp/wp-content/uploads/2018/10/42044411_1682687648527026_2226788681522348032_n.jpg
END:VEVENT
BEGIN:VEVENT
DTSTART;TZID=Europe/Paris:20181016T190000
DTEND;TZID=Europe/Paris:20181016T190000
DTSTAMP:20260424T233203
CREATED:20181011T083057Z
LAST-MODIFIED:20181011T102848Z
UID:1207-1539716400-1539716400@animaldignity.lu
SUMMARY:L’arbre et l’animal : vers un champ des possibles
DESCRIPTION:Par Ghislain Zuccolo\, co-fondateur et directeur général de l’association Welfarm. Dempsey Princet est le fondateur et conseiller technique de l’entreprise Sylvaterra. \nEt si l’on s’inspirait de ce que fait la nature pour améliorer la condition de vie des animaux  d’élevage aussi bien que celle des animaux sauvages qui\, discrètement\, les entourent ? Welfarm et Sylvaterra croisent leurs visions du bien-être animal et de l’agroforesterie autour d’une table ronde. \nShare\n				Email a link to a friend (Opens in new window)\n				Email\n			\n				Print (Opens in new window)\n				Print\n			\n				Share on Facebook (Opens in new window)\n				Facebook\n			\n				Share on X (Opens in new window)\n				X\n			\n				Share on LinkedIn (Opens in new window)\n				LinkedIn\n			\n				Share on Reddit (Opens in new window)\n				Reddit\n			\n				Share on Pinterest (Opens in new window)\n				Pinterest\n			\n				Share on Tumblr (Opens in new window)\n				Tumblr
URL:https://animaldignity.lu/event/larbre-et-lanimal-vers-un-champ-des-possibles/
LOCATION:Metz\, Hôtel de Ville\, 1\, place d'Armes\, Metz\, 57036\, France
ATTACH;FMTTYPE=image/jpeg:https://animaldignity.lu/wp/wp-content/uploads/2018/10/22632.jpg
END:VEVENT
BEGIN:VEVENT
DTSTART;TZID=Europe/Paris:20181023T190000
DTEND;TZID=Europe/Paris:20181023T190000
DTSTAMP:20260424T233203
CREATED:20181011T102703Z
LAST-MODIFIED:20181011T102703Z
UID:1212-1540321200-1540321200@animaldignity.lu
SUMMARY:Droit des animaux : quelles perspectives d’évolution ?
DESCRIPTION:Par Émilie Chevalier\, maître de conférences en droit public à l’Université de Limoges et co-autrice du Code de l’animal. \nLa récente création du premier code de l’animal constitue une véritable avancée pour le droit des animaux\, rendant plus lisible la réglementation et mettant en lumière les incohérences des textes. Et si la prochaine étape était la reconnaissance de la personnalité juridique de l’animal ? \nShare\n				Email a link to a friend (Opens in new window)\n				Email\n			\n				Print (Opens in new window)\n				Print\n			\n				Share on Facebook (Opens in new window)\n				Facebook\n			\n				Share on X (Opens in new window)\n				X\n			\n				Share on LinkedIn (Opens in new window)\n				LinkedIn\n			\n				Share on Reddit (Opens in new window)\n				Reddit\n			\n				Share on Pinterest (Opens in new window)\n				Pinterest\n			\n				Share on Tumblr (Opens in new window)\n				Tumblr
URL:https://animaldignity.lu/event/droit-des-animaux-quelles-perspectives-devolution/
LOCATION:Metz\, Hôtel de Ville\, 1\, place d'Armes\, Metz\, 57036\, France
ATTACH;FMTTYPE=image/jpeg:https://animaldignity.lu/wp/wp-content/uploads/2018/10/22632.jpg
END:VEVENT
BEGIN:VEVENT
DTSTART;TZID=Europe/Paris:20181027T080000
DTEND;TZID=Europe/Paris:20181027T170000
DTSTAMP:20260424T233203
CREATED:20180726T082320Z
LAST-MODIFIED:20180726T082320Z
UID:992-1540627200-1540659600@animaldignity.lu
SUMMARY:World Vegan Day
DESCRIPTION:Der Weltvegantag (englisch World Vegan Day) ist ein internationaler Aktionstag\, der erstmals am 1. November 1994 anlässlich des fünfzigsten Jahrestags der Gründung der Vegan Society stattfand und seitdem jährlich am 1. November gefeiert wird. \nDa das genaue Gründungsdatum nicht überliefert und lediglich der November als Gründungsmonat bekannt war\, legte die damalige Präsidentin der Vegan Society Louise Wallis den Termin auf den 1. November. Sie begründete dies damit\, dass ihr die Überschneidung mit Halloween auf der einen Seite sowie dem Tag der Toten auf der anderen Seite gefiel.[1] \nIn Deutschland finden am Weltvegantag mehrere Informationsveranstaltungen und Aktionen statt. \nQuelle: https://de.wikipedia.org/wiki/Weltvegantag  \nShare\n				Email a link to a friend (Opens in new window)\n				Email\n			\n				Print (Opens in new window)\n				Print\n			\n				Share on Facebook (Opens in new window)\n				Facebook\n			\n				Share on X (Opens in new window)\n				X\n			\n				Share on LinkedIn (Opens in new window)\n				LinkedIn\n			\n				Share on Reddit (Opens in new window)\n				Reddit\n			\n				Share on Pinterest (Opens in new window)\n				Pinterest\n			\n				Share on Tumblr (Opens in new window)\n				Tumblr
URL:https://animaldignity.lu/event/world-vegan-day/
END:VEVENT
END:VCALENDAR