BEGIN:VCALENDAR
VERSION:2.0
PRODID:-//Animal Dignity - ECPv6.15.20//NONSGML v1.0//EN
CALSCALE:GREGORIAN
METHOD:PUBLISH
X-ORIGINAL-URL:https://animaldignity.lu
X-WR-CALDESC:Events for Animal Dignity
REFRESH-INTERVAL;VALUE=DURATION:PT1H
X-Robots-Tag:noindex
X-PUBLISHED-TTL:PT1H
BEGIN:VTIMEZONE
TZID:Europe/Paris
BEGIN:DAYLIGHT
TZOFFSETFROM:+0100
TZOFFSETTO:+0200
TZNAME:CEST
DTSTART:20170326T010000
END:DAYLIGHT
BEGIN:STANDARD
TZOFFSETFROM:+0200
TZOFFSETTO:+0100
TZNAME:CET
DTSTART:20171029T010000
END:STANDARD
BEGIN:DAYLIGHT
TZOFFSETFROM:+0100
TZOFFSETTO:+0200
TZNAME:CEST
DTSTART:20180325T010000
END:DAYLIGHT
BEGIN:STANDARD
TZOFFSETFROM:+0200
TZOFFSETTO:+0100
TZNAME:CET
DTSTART:20181028T010000
END:STANDARD
BEGIN:DAYLIGHT
TZOFFSETFROM:+0100
TZOFFSETTO:+0200
TZNAME:CEST
DTSTART:20190331T010000
END:DAYLIGHT
BEGIN:STANDARD
TZOFFSETFROM:+0200
TZOFFSETTO:+0100
TZNAME:CET
DTSTART:20191027T010000
END:STANDARD
END:VTIMEZONE
BEGIN:VEVENT
DTSTART;TZID=Europe/Paris:20181103T140000
DTEND;TZID=Europe/Paris:20181103T170000
DTSTAMP:20260424T233202
CREATED:20181029T112655Z
LAST-MODIFIED:20181029T124037Z
UID:1231-1541253600-1541264400@animaldignity.lu
SUMMARY:Cube of Truth
DESCRIPTION:Le Cube of Truth est un happening statique et pacifique comparable à une performance artistique. Ce happening fonctionne de façon structurée\, ce qui provoque la curiosité et l’intérêt du public ; nous souhaitons guider les passant-es vers le véganisme grâce à la combinaison de vidéos de pratiques standards et locales dans l’exploitation animale et de discussions avec une approche personnalisée\, basée sur la réflexion et l’accompagnement. \nLes masques\, panneaux et supports de sensibilisation sont fournis. Une tenue noire appropriée aux conditions météo est indispensable\, et merci d’apporter un ordinateur portable ou une tablette entièrement chargée si vous en avez. Si c’est le cas\, merci de télécharger ceci : \nLecteur Média :\nhttp://www.videolan.org/vlc/ \nVidéos :\nhttps://goo.gl/LkDWe5 \nNous nous rencontrons en face du cabinet Dentaire Roude Pëtz\nAdresse: 30 Grand-Rue\, 1660 Luxembourg. \nShare\n				Email a link to a friend (Opens in new window)\n				Email\n			\n				Print (Opens in new window)\n				Print\n			\n				Share on Facebook (Opens in new window)\n				Facebook\n			\n				Share on X (Opens in new window)\n				X\n			\n				Share on LinkedIn (Opens in new window)\n				LinkedIn\n			\n				Share on Reddit (Opens in new window)\n				Reddit\n			\n				Share on Pinterest (Opens in new window)\n				Pinterest\n			\n				Share on Tumblr (Opens in new window)\n				Tumblr
URL:https://animaldignity.lu/event/1231/
LOCATION:Roude Pëtz Luxembourg\, 30 Grand-Rue\, Luxembourg\, 1660\, Luxembourg
ATTACH;FMTTYPE=image/jpeg:https://animaldignity.lu/wp/wp-content/uploads/2018/10/44099502_1997221236966763_8557106546343936000_n.jpg
END:VEVENT
BEGIN:VEVENT
DTSTART;TZID=Europe/Paris:20181112T120000
DTEND;TZID=Europe/Paris:20181112T200000
DTSTAMP:20260424T233202
CREATED:20181029T113233Z
LAST-MODIFIED:20181029T113233Z
UID:1235-1542024000-1542052800@animaldignity.lu
SUMMARY:Lëtzebuerger Klimadag 2018
DESCRIPTION:Le Lëtzebuerger Klimadag 2018 réunit les communes du Klima-Bündnis\, les ONG de VotumKlima et le grand public pour une journée de stands d’info\, conférences\, projections de film\, discussions et actions autour du changement climatique. Il y en a vraiment pour tout le monde\, venez nombreux! Entrée et participation gratuites. \n\n\n\n12:15 PM – 1:00 PM\n\nConférence Dr. Quentin Lejeune/Climate Analytics sur le rapport GIEC 1\,5°\n\n\n\n\n\n \n\n \n\n1:00 PM – 2:00 PM\n\nDiscussion sur les conséquences du récent rapport GIEC sur la politique climatique du Luxembourg\n\n\n\n\n\n \n\n \n\n2:30 PM – 3:30 PM\n\nFilm “Count Down am Xingu V” über den Staudamm Belo Monte in Brasilien\n\n\n\n\n\n \n\n \n\n3:30 PM – 5:00 PM\n\nVortrag “Global education for change”:Bedeutung entwicklungspolitischer Bildungsarbeit zur Umsetzung lokaler Klimaziele\n\n\n\n\n\n \n\n \n\n\n5:30 PM\n\n\nPlenarsitzung des Klima-Bündnis Lëtzebuerg\, mit Vorstellung des People’s Climate Case in Anwesenheit einiger Kläger\n\n\n\n\n\n \n\n \n\n6:00 PM – 8:00 PM\n\nAfter Work Drink & Social Media Aktion “Deine Message an die zukünftige Regierung Luxemburgs”\n\n\n\n\nShare\n				Email a link to a friend (Opens in new window)\n				Email\n			\n				Print (Opens in new window)\n				Print\n			\n				Share on Facebook (Opens in new window)\n				Facebook\n			\n				Share on X (Opens in new window)\n				X\n			\n				Share on LinkedIn (Opens in new window)\n				LinkedIn\n			\n				Share on Reddit (Opens in new window)\n				Reddit\n			\n				Share on Pinterest (Opens in new window)\n				Pinterest\n			\n				Share on Tumblr (Opens in new window)\n				Tumblr
URL:https://animaldignity.lu/event/letzebuerger-klimadag-2018/
LOCATION:Rotonde 1\, 1 rue de la rotonde\, Luxembourg\, 2448\, Luxembourg
END:VEVENT
BEGIN:VEVENT
DTSTART;TZID=Europe/Paris:20181115T193000
DTEND;TZID=Europe/Paris:20181115T230000
DTSTAMP:20260424T233202
CREATED:20181029T113755Z
LAST-MODIFIED:20181029T113755Z
UID:1243-1542310200-1542322800@animaldignity.lu
SUMMARY:Piano\, vegan cheese & wine
DESCRIPTION:Pianosowend mat veganem Kéis a Wäin am Oekosoph: \nD‘Vegan Society Luxembourg an de Mouvement Ecologique lueden Iech an op e gemittlechen Pianosowend mat enger feiner Selektioun vu verschiddenen artisanalen\, biologeschen a vegane Kéiser\, an e Pättche bio a vegane Wäin fir déi\, déi wëllen. \nFir d‘Ambiance suergt den „Earthling Daniel“ um Piano mat lëtzebuerger Lidder an anere Klassiker. \nDe Kéisteller (mat puer Drauwen a Brout) kascht 18€. \nEng Reservatioun ass neideg fir de Kéisteller\, umellen kënnt Dir Iech bis den 10.11. op contact@vsl.lu\, d‘Plazen si limitéiert. \nPiano Evening with vegan cheese and wine at Oekosoph: \nThe Vegan Society Luxembourg and the „Mouvement écologique“ invite you to a relaxed Piano night with a fine selection of different organic and vegan cheeses\, served with organic vegan wine for those who want. \nOn the piano „Earthling Daniel“ playing luxembourgish and international songs. \nThe cheese plate (served with grapes and bread) is available for 18€\, a reservation is necessary until the 10th november at contact@vsl.lu.\, places are limited. \nShare\n				Email a link to a friend (Opens in new window)\n				Email\n			\n				Print (Opens in new window)\n				Print\n			\n				Share on Facebook (Opens in new window)\n				Facebook\n			\n				Share on X (Opens in new window)\n				X\n			\n				Share on LinkedIn (Opens in new window)\n				LinkedIn\n			\n				Share on Reddit (Opens in new window)\n				Reddit\n			\n				Share on Pinterest (Opens in new window)\n				Pinterest\n			\n				Share on Tumblr (Opens in new window)\n				Tumblr
URL:https://animaldignity.lu/event/piano-vegan-cheese-wine/
LOCATION:Oekosoph\, 6 rue Vauban\, Luxembourg\, 2663\, Luxembourg
END:VEVENT
END:VCALENDAR